BEGIN:VCALENDAR
VERSION:2.0
PRODID:-//Golfimpresa - Circoli di golf in Italia - ECPv6.15.20//NONSGML v1.0//EN
CALSCALE:GREGORIAN
METHOD:PUBLISH
X-ORIGINAL-URL:https://www.golfimpresa.com
X-WR-CALDESC:Eventi per Golfimpresa - Circoli di golf in Italia
REFRESH-INTERVAL;VALUE=DURATION:PT1H
X-Robots-Tag:noindex
X-PUBLISHED-TTL:PT1H
BEGIN:VTIMEZONE
TZID:Europe/Paris
BEGIN:DAYLIGHT
TZOFFSETFROM:+0100
TZOFFSETTO:+0200
TZNAME:CEST
DTSTART:20250330T010000
END:DAYLIGHT
BEGIN:STANDARD
TZOFFSETFROM:+0200
TZOFFSETTO:+0100
TZNAME:CET
DTSTART:20251026T010000
END:STANDARD
BEGIN:DAYLIGHT
TZOFFSETFROM:+0100
TZOFFSETTO:+0200
TZNAME:CEST
DTSTART:20260329T010000
END:DAYLIGHT
BEGIN:STANDARD
TZOFFSETFROM:+0200
TZOFFSETTO:+0100
TZNAME:CET
DTSTART:20261025T010000
END:STANDARD
BEGIN:DAYLIGHT
TZOFFSETFROM:+0100
TZOFFSETTO:+0200
TZNAME:CEST
DTSTART:20270328T010000
END:DAYLIGHT
BEGIN:STANDARD
TZOFFSETFROM:+0200
TZOFFSETTO:+0100
TZNAME:CET
DTSTART:20271031T010000
END:STANDARD
END:VTIMEZONE
BEGIN:VEVENT
DTSTART;VALUE=DATE:20260912
DTEND;VALUE=DATE:20260913
DTSTAMP:20260424T183440
CREATED:20260310T133123Z
LAST-MODIFIED:20260310T133123Z
UID:11547-1789171200-1789257599@www.golfimpresa.com
SUMMARY:Golf Aosta Brissogne - Golfimpresa Challenge 2026 coppie
DESCRIPTION:
URL:https://www.golfimpresa.com/gara-golf/golf-aosta-brissogne-golfimpresa-challenge-2026-coppie/
LOCATION:Golf Aosta Brissogne\, Località Les Iles\, 3\, Brissogne (AO)\, 11020\, Italia
CATEGORIES:Golfimpresa Challenge Coppie
END:VEVENT
END:VCALENDAR