BEGIN:VCALENDAR
VERSION:2.0
PRODID:-//Golfimpresa - Circoli di golf in Italia - ECPv6.15.20//NONSGML v1.0//EN
CALSCALE:GREGORIAN
METHOD:PUBLISH
X-ORIGINAL-URL:https://www.golfimpresa.com
X-WR-CALDESC:Eventi per Golfimpresa - Circoli di golf in Italia
REFRESH-INTERVAL;VALUE=DURATION:PT1H
X-Robots-Tag:noindex
X-PUBLISHED-TTL:PT1H
BEGIN:VTIMEZONE
TZID:Europe/Paris
BEGIN:DAYLIGHT
TZOFFSETFROM:+0100
TZOFFSETTO:+0200
TZNAME:CEST
DTSTART:20250330T010000
END:DAYLIGHT
BEGIN:STANDARD
TZOFFSETFROM:+0200
TZOFFSETTO:+0100
TZNAME:CET
DTSTART:20251026T010000
END:STANDARD
BEGIN:DAYLIGHT
TZOFFSETFROM:+0100
TZOFFSETTO:+0200
TZNAME:CEST
DTSTART:20260329T010000
END:DAYLIGHT
BEGIN:STANDARD
TZOFFSETFROM:+0200
TZOFFSETTO:+0100
TZNAME:CET
DTSTART:20261025T010000
END:STANDARD
BEGIN:DAYLIGHT
TZOFFSETFROM:+0100
TZOFFSETTO:+0200
TZNAME:CEST
DTSTART:20270328T010000
END:DAYLIGHT
BEGIN:STANDARD
TZOFFSETFROM:+0200
TZOFFSETTO:+0100
TZNAME:CET
DTSTART:20271031T010000
END:STANDARD
END:VTIMEZONE
BEGIN:VEVENT
DTSTART;VALUE=DATE:20261121
DTEND;VALUE=DATE:20261122
DTSTAMP:20260422T124431
CREATED:20260120T092425Z
LAST-MODIFIED:20260120T092425Z
UID:11460-1795219200-1795305599@www.golfimpresa.com
SUMMARY:Golf Le Rovedine - Golfimpresa Challenge 2026 coppie
DESCRIPTION:
URL:https://www.golfimpresa.com/gara-golf/golf-le-rovedine-golfimpresa-challenge-2026-coppie/
LOCATION:Le Rovedine\, Via Karl Marx\, 18\, Noverasco di Opera MI\, 20090\, Italia
CATEGORIES:Golfimpresa Challenge Coppie
END:VEVENT
BEGIN:VEVENT
DTSTART;VALUE=DATE:20261121
DTEND;VALUE=DATE:20261122
DTSTAMP:20260422T124431
CREATED:20260312T121742Z
LAST-MODIFIED:20260312T121742Z
UID:11551-1795219200-1795305599@www.golfimpresa.com
SUMMARY:Golf Le Pavoniere - Golfimpresa Challenge 2026 coppie
DESCRIPTION:
URL:https://www.golfimpresa.com/gara-golf/golf-le-pavoniere-golfimpresa-challenge-2026-coppie/
LOCATION:Le Pavoniere\, Via del Crocifisso\, Prato\, 59100\, Italia
CATEGORIES:Golfimpresa Challenge Coppie
END:VEVENT
BEGIN:VEVENT
DTSTART;VALUE=DATE:20261122
DTEND;VALUE=DATE:20261123
DTSTAMP:20260422T124431
CREATED:20260407T064131Z
LAST-MODIFIED:20260407T064131Z
UID:11581-1795305600-1795391999@www.golfimpresa.com
SUMMARY:Golf Brianza - Golfimpresa Challenge 2026 coppie
DESCRIPTION:
URL:https://www.golfimpresa.com/gara-golf/golf-brianza-golfimpresa-challenge-2026-coppie/
LOCATION:Brianza\, Località Cascina Cazzù\, Usmate Velate MB\, 20865\, Italia
CATEGORIES:Golfimpresa Challenge Coppie
END:VEVENT
BEGIN:VEVENT
DTSTART;VALUE=DATE:20261129
DTEND;VALUE=DATE:20261130
DTSTAMP:20260422T124431
CREATED:20260107T085212Z
LAST-MODIFIED:20260107T085212Z
UID:11430-1795910400-1795996799@www.golfimpresa.com
SUMMARY:Golf Montecchia - Golfimpresa Challenge 2026 coppie
DESCRIPTION:
URL:https://www.golfimpresa.com/gara-golf/golf-montecchia-golfimpresa-challenge-2026-coppie/
LOCATION:Montecchia\, Via Montecchia\, 12\, Selvazzano Dentro PD\, 32030\, Italia
CATEGORIES:Golfimpresa Challenge Coppie
END:VEVENT
END:VCALENDAR