BEGIN:VCALENDAR
VERSION:2.0
PRODID:-//Golfimpresa - Circoli di golf in Italia - ECPv6.15.20//NONSGML v1.0//EN
CALSCALE:GREGORIAN
METHOD:PUBLISH
X-WR-CALNAME:Golfimpresa - Circoli di golf in Italia
X-ORIGINAL-URL:https://www.golfimpresa.com
X-WR-CALDESC:Eventi per Golfimpresa - Circoli di golf in Italia
REFRESH-INTERVAL;VALUE=DURATION:PT1H
X-Robots-Tag:noindex
X-PUBLISHED-TTL:PT1H
BEGIN:VTIMEZONE
TZID:Europe/Paris
BEGIN:DAYLIGHT
TZOFFSETFROM:+0100
TZOFFSETTO:+0200
TZNAME:CEST
DTSTART:20250330T010000
END:DAYLIGHT
BEGIN:STANDARD
TZOFFSETFROM:+0200
TZOFFSETTO:+0100
TZNAME:CET
DTSTART:20251026T010000
END:STANDARD
BEGIN:DAYLIGHT
TZOFFSETFROM:+0100
TZOFFSETTO:+0200
TZNAME:CEST
DTSTART:20260329T010000
END:DAYLIGHT
BEGIN:STANDARD
TZOFFSETFROM:+0200
TZOFFSETTO:+0100
TZNAME:CET
DTSTART:20261025T010000
END:STANDARD
BEGIN:DAYLIGHT
TZOFFSETFROM:+0100
TZOFFSETTO:+0200
TZNAME:CEST
DTSTART:20270328T010000
END:DAYLIGHT
BEGIN:STANDARD
TZOFFSETFROM:+0200
TZOFFSETTO:+0100
TZNAME:CET
DTSTART:20271031T010000
END:STANDARD
END:VTIMEZONE
BEGIN:VEVENT
DTSTART;VALUE=DATE:20260425
DTEND;VALUE=DATE:20260426
DTSTAMP:20260420T154413
CREATED:20260107T084313Z
LAST-MODIFIED:20260107T084313Z
UID:11420-1777075200-1777161599@www.golfimpresa.com
SUMMARY:Golf Casentino - Trofeo Golfimpresa 2026 singola
DESCRIPTION:
URL:https://www.golfimpresa.com/gara-golf/golf-casentino-trofeo-golfimpresa-2026-singola/
LOCATION:Casentino\, Via Fronzola\, 6\, Poppi AR\, 52014\, Italia
CATEGORIES:Trofeo Golfimpresa Singolo
END:VEVENT
BEGIN:VEVENT
DTSTART;VALUE=DATE:20260425
DTEND;VALUE=DATE:20260426
DTSTAMP:20260420T154413
CREATED:20260129T084334Z
LAST-MODIFIED:20260129T084334Z
UID:11474-1777075200-1777161599@www.golfimpresa.com
SUMMARY:Golf Il Colombaro - Trofeo Golfimpresa 2026 singola
DESCRIPTION:
URL:https://www.golfimpresa.com/gara-golf/golf-il-colombaro-trofeo-golfimpresa-2026-singola/
LOCATION:Il Colombaro\, Via Colombaro\, 1\, Salò BS\, 25087\, Italia
CATEGORIES:Trofeo Golfimpresa Singolo
END:VEVENT
BEGIN:VEVENT
DTSTART;VALUE=DATE:20260501
DTEND;VALUE=DATE:20260502
DTSTAMP:20260420T154413
CREATED:20260317T083446Z
LAST-MODIFIED:20260317T083446Z
UID:11562-1777593600-1777679999@www.golfimpresa.com
SUMMARY:Golf Dolomiti - Trofeo Golfimpresa 2026 singola
DESCRIPTION:
URL:https://www.golfimpresa.com/gara-golf/golf-dolomiti-trofeo-golfimpresa-2026-singola/
LOCATION:Dolomiti Golf Club\, Loc. Centro Sport Veder\, 1\, Sarnonico TN\, 38010\, Italia
CATEGORIES:Trofeo Golfimpresa Singolo
END:VEVENT
BEGIN:VEVENT
DTSTART;VALUE=DATE:20260502
DTEND;VALUE=DATE:20260503
DTSTAMP:20260420T154413
CREATED:20260323T073115Z
LAST-MODIFIED:20260418T095358Z
UID:11564-1777680000-1777766399@www.golfimpresa.com
SUMMARY:Golf Club Quarrata - Trofeo Golfimpresa 2026 singola
DESCRIPTION:
URL:https://www.golfimpresa.com/gara-golf/golf-club-quarrata-trofeo-golfimpresa-2026-singola/
LOCATION:Quarrata\, Via Ceccarelli - Località Barba\, Quarrata PT\, 51039\, Italia
CATEGORIES:Trofeo Golfimpresa Singolo
END:VEVENT
BEGIN:VEVENT
DTSTART;VALUE=DATE:20260503
DTEND;VALUE=DATE:20260504
DTSTAMP:20260420T154413
CREATED:20260130T094256Z
LAST-MODIFIED:20260130T094256Z
UID:11488-1777766400-1777852799@www.golfimpresa.com
SUMMARY:Golf Salice Terme - Trofeo Golfimpresa 2026 singola
DESCRIPTION:
URL:https://www.golfimpresa.com/gara-golf/golf-salice-terme-trofeo-golfimpresa-2026-singola/
LOCATION:Salice Terme\, Via Diviani\, 8\, Rivanazza Terme PV\, 27055\, Italia
CATEGORIES:Trofeo Golfimpresa Singolo
END:VEVENT
BEGIN:VEVENT
DTSTART;VALUE=DATE:20260503
DTEND;VALUE=DATE:20260504
DTSTAMP:20260420T154413
CREATED:20260312T121626Z
LAST-MODIFIED:20260312T121626Z
UID:11549-1777766400-1777852799@www.golfimpresa.com
SUMMARY:Golf Le Pavoniere - Trofeo Golfimpresa 2026 singola
DESCRIPTION:
URL:https://www.golfimpresa.com/gara-golf/golf-le-pavoniere-trofeo-golfimpresa-2026-singola/
LOCATION:Le Pavoniere\, Via del Crocifisso\, Prato\, 59100\, Italia
CATEGORIES:Trofeo Golfimpresa Singolo
END:VEVENT
BEGIN:VEVENT
DTSTART;VALUE=DATE:20260503
DTEND;VALUE=DATE:20260504
DTSTAMP:20260420T154413
CREATED:20260414T083451Z
LAST-MODIFIED:20260414T083451Z
UID:11583-1777766400-1777852799@www.golfimpresa.com
SUMMARY:Golf Albisola - Trofeo Golfimpresa 2026 singola
DESCRIPTION:
URL:https://www.golfimpresa.com/gara-golf/golf-albisola-trofeo-golfimpresa-2026-singola/
LOCATION:Albisola\, Via Poggi snc\, Loc. Carpineto Albisola Superiore SV\, Italia
CATEGORIES:Trofeo Golfimpresa Singolo
END:VEVENT
BEGIN:VEVENT
DTSTART;VALUE=DATE:20260509
DTEND;VALUE=DATE:20260510
DTSTAMP:20260420T154413
CREATED:20260331T132411Z
LAST-MODIFIED:20260331T132411Z
UID:11572-1778284800-1778371199@www.golfimpresa.com
SUMMARY:Golf Parco di Firenze - Trofeo Golfimpresa 2026 singola
DESCRIPTION:
URL:https://www.golfimpresa.com/gara-golf/golf-parco-di-firenze-trofeo-golfimpresa-2026-singola/
LOCATION:Parco di Firenze\, Via dell'Isolotto\, 10\, Firenze\, 50142\, Italia
CATEGORIES:Trofeo Golfimpresa Singolo
END:VEVENT
BEGIN:VEVENT
DTSTART;VALUE=DATE:20260517
DTEND;VALUE=DATE:20260518
DTSTAMP:20260420T154413
CREATED:20260314T115812Z
LAST-MODIFIED:20260314T115812Z
UID:11558-1778976000-1779062399@www.golfimpresa.com
SUMMARY:Golf Club Roncegno - Trofeo Golfimpresa 2026 singola
DESCRIPTION:
URL:https://www.golfimpresa.com/gara-golf/golf-club-roncegno-trofeo-golfimpresa-2026-singola/
LOCATION:Golf Club Roncegno\, Via Ferme\, Roncegno Terme\, TN\, 38050\, Italia
CATEGORIES:Trofeo Golfimpresa Singolo
END:VEVENT
BEGIN:VEVENT
DTSTART;VALUE=DATE:20260524
DTEND;VALUE=DATE:20260525
DTSTAMP:20260420T154413
CREATED:20260122T074647Z
LAST-MODIFIED:20260122T074647Z
UID:11462-1779580800-1779667199@www.golfimpresa.com
SUMMARY:Golf I Lauri - Trofeo Golfimpresa 2026 singola
DESCRIPTION:
URL:https://www.golfimpresa.com/gara-golf/golf-i-lauri-trofeo-golfimpresa-2026-singola/
LOCATION:i Lauri\, Contrada Fonte Trufo\, Montefiore dell'Aso AP\, 63062\, Italy
CATEGORIES:Trofeo Golfimpresa Singolo
END:VEVENT
BEGIN:VEVENT
DTSTART;VALUE=DATE:20260614
DTEND;VALUE=DATE:20260615
DTSTAMP:20260420T154413
CREATED:20260206T102322Z
LAST-MODIFIED:20260206T102322Z
UID:11507-1781395200-1781481599@www.golfimpresa.com
SUMMARY:Golf Garda Hotel San Vigilio - Trofeo Golfimpresa 2026 singola
DESCRIPTION:
URL:https://www.golfimpresa.com/gara-golf/golf-garda-hotel-san-vigilio-trofeo-golfimpresa-2026-singola/
LOCATION:Garda Hotel San Vigilio Golf\, Località San Vigilio 1\, Pozzolengo\, 25010\, Italy
CATEGORIES:Trofeo Golfimpresa Singolo
END:VEVENT
BEGIN:VEVENT
DTSTART;VALUE=DATE:20260614
DTEND;VALUE=DATE:20260615
DTSTAMP:20260420T154413
CREATED:20260310T132913Z
LAST-MODIFIED:20260310T132913Z
UID:11545-1781395200-1781481599@www.golfimpresa.com
SUMMARY:Golf Aosta Brissogne - trofeo Golfimpresa 2026 singola
DESCRIPTION:
URL:https://www.golfimpresa.com/gara-golf/golf-aosta-brissogne-trofeo-golfimpresa-2026-singola/
LOCATION:Golf Aosta Brissogne\, Località Les Iles\, 3\, Brissogne (AO)\, 11020\, Italia
CATEGORIES:Trofeo Golfimpresa Singolo
END:VEVENT
BEGIN:VEVENT
DTSTART;VALUE=DATE:20260628
DTEND;VALUE=DATE:20260629
DTSTAMP:20260420T154413
CREATED:20260402T120600Z
LAST-MODIFIED:20260402T120600Z
UID:11576-1782604800-1782691199@www.golfimpresa.com
SUMMARY:Golf I Ciliegi - Trofeo Golfimpresa 2025 singola
DESCRIPTION:
URL:https://www.golfimpresa.com/gara-golf/golf-i-ciliegi-trofeo-golfimpresa-2025-singola/
LOCATION:Ciliegi\, Strada Valle Sauglio 130\, Pecetto TO\, 10020\, Italia
CATEGORIES:Trofeo Golfimpresa Singolo
END:VEVENT
BEGIN:VEVENT
DTSTART;VALUE=DATE:20260705
DTEND;VALUE=DATE:20260706
DTSTAMP:20260420T154413
CREATED:20260314T091457Z
LAST-MODIFIED:20260314T091700Z
UID:11554-1783209600-1783295999@www.golfimpresa.com
SUMMARY:Adriatic Golf Club Cervia - Trofeo Golfimpresa 2026 singola
DESCRIPTION:
URL:https://www.golfimpresa.com/gara-golf/adriatic-golf-club-cervia-trofeo-golfimpresa-2026-singola/
LOCATION:Adratic Golf Club Cervia\, Viale Jelenia Gora\, 6\, Milano Marittima\, RA\, 48015\, Italy
CATEGORIES:Trofeo Golfimpresa Singolo
END:VEVENT
BEGIN:VEVENT
DTSTART;VALUE=DATE:20260719
DTEND;VALUE=DATE:20260720
DTSTAMP:20260420T154413
CREATED:20260120T090935Z
LAST-MODIFIED:20260120T090935Z
UID:11458-1784419200-1784505599@www.golfimpresa.com
SUMMARY:Golf Le Rovedine - Trofeo Golfimpresa 2026 singola
DESCRIPTION:
URL:https://www.golfimpresa.com/gara-golf/golf-le-rovedine-trofeo-golfimpresa-2026-singola/
LOCATION:Le Rovedine\, Via Karl Marx\, 18\, Noverasco di Opera MI\, 20090\, Italia
CATEGORIES:Trofeo Golfimpresa Singolo
END:VEVENT
BEGIN:VEVENT
DTSTART;VALUE=DATE:20260802
DTEND;VALUE=DATE:20260803
DTSTAMP:20260420T154413
CREATED:20260107T084523Z
LAST-MODIFIED:20260107T084523Z
UID:11422-1785628800-1785715199@www.golfimpresa.com
SUMMARY:Golf Montecchia - Trofeo Golfimpresa 2026 singola
DESCRIPTION:
URL:https://www.golfimpresa.com/gara-golf/golf-montecchia-trofeo-golfimpresa-2026-singola/
LOCATION:Montecchia\, Via Montecchia\, 12\, Selvazzano Dentro PD\, 32030\, Italia
CATEGORIES:Trofeo Golfimpresa Singolo
END:VEVENT
BEGIN:VEVENT
DTSTART;VALUE=DATE:20260829
DTEND;VALUE=DATE:20260830
DTSTAMP:20260420T154413
CREATED:20260407T063800Z
LAST-MODIFIED:20260407T064012Z
UID:11578-1787961600-1788047999@www.golfimpresa.com
SUMMARY:Golf Brianza - Trofeo Golfimpresa 2026 singola
DESCRIPTION:
URL:https://www.golfimpresa.com/gara-golf/golf-briamza-trofeo-golfimpresa-2026-singola/
LOCATION:Brianza\, Località Cascina Cazzù\, Usmate Velate MB\, 20865\, Italia
CATEGORIES:Trofeo Golfimpresa Singolo
END:VEVENT
END:VCALENDAR