BEGIN:VCALENDAR
VERSION:2.0
PRODID:-//Golfimpresa - Circoli di golf in Italia - ECPv6.15.17.1//NONSGML v1.0//EN
CALSCALE:GREGORIAN
METHOD:PUBLISH
X-WR-CALNAME:Golfimpresa - Circoli di golf in Italia
X-ORIGINAL-URL:https://www.golfimpresa.com
X-WR-CALDESC:Eventi per Golfimpresa - Circoli di golf in Italia
REFRESH-INTERVAL;VALUE=DURATION:PT1H
X-Robots-Tag:noindex
X-PUBLISHED-TTL:PT1H
BEGIN:VTIMEZONE
TZID:Europe/Paris
BEGIN:DAYLIGHT
TZOFFSETFROM:+0100
TZOFFSETTO:+0200
TZNAME:CEST
DTSTART:20220327T010000
END:DAYLIGHT
BEGIN:STANDARD
TZOFFSETFROM:+0200
TZOFFSETTO:+0100
TZNAME:CET
DTSTART:20221030T010000
END:STANDARD
BEGIN:DAYLIGHT
TZOFFSETFROM:+0100
TZOFFSETTO:+0200
TZNAME:CEST
DTSTART:20230326T010000
END:DAYLIGHT
BEGIN:STANDARD
TZOFFSETFROM:+0200
TZOFFSETTO:+0100
TZNAME:CET
DTSTART:20231029T010000
END:STANDARD
BEGIN:DAYLIGHT
TZOFFSETFROM:+0100
TZOFFSETTO:+0200
TZNAME:CEST
DTSTART:20240331T010000
END:DAYLIGHT
BEGIN:STANDARD
TZOFFSETFROM:+0200
TZOFFSETTO:+0100
TZNAME:CET
DTSTART:20241027T010000
END:STANDARD
END:VTIMEZONE
BEGIN:VEVENT
DTSTART;VALUE=DATE:20230312
DTEND;VALUE=DATE:20230313
DTSTAMP:20260419T141955
CREATED:20221214T143750Z
LAST-MODIFIED:20221214T143750Z
UID:10091-1678579200-1678665599@www.golfimpresa.com
SUMMARY:Golf Tirrenia - Trofeo Golfimpresa 2023 singola
DESCRIPTION:
URL:https://www.golfimpresa.com/gara-golf/golf-tirrenia-trofeo-golfimpresa-2023-singola/
LOCATION:Tirrenia\, Viale San Guido\, 1\, Tirrenia PI\, 56128\, Italia
CATEGORIES:Trofeo Golfimpresa Singolo
END:VEVENT
BEGIN:VEVENT
DTSTART;VALUE=DATE:20230226
DTEND;VALUE=DATE:20230227
DTSTAMP:20260419T141955
CREATED:20221220T151338Z
LAST-MODIFIED:20221220T151338Z
UID:10143-1677369600-1677455999@www.golfimpresa.com
SUMMARY:Golf Montecchia - Trofeo Golfimpresa 2023 singola
DESCRIPTION:
URL:https://www.golfimpresa.com/gara-golf/golf-montecchia-trofeo-golfimpresa-2023-singola/
LOCATION:Montecchia\, Via Montecchia\, 12\, Selvazzano Dentro PD\, 32030\, Italia
CATEGORIES:Trofeo Golfimpresa Singolo
END:VEVENT
END:VCALENDAR